BEGIN:VCALENDAR
VERSION:2.0
PRODID:-//Neomedica - ECPv6.13.2.1//NONSGML v1.0//EN
CALSCALE:GREGORIAN
METHOD:PUBLISH
X-ORIGINAL-URL:https://neomedica.rs
X-WR-CALDESC:Events for Neomedica
REFRESH-INTERVAL;VALUE=DURATION:PT1H
X-Robots-Tag:noindex
X-PUBLISHED-TTL:PT1H
BEGIN:VTIMEZONE
TZID:UTC
BEGIN:STANDARD
TZOFFSETFROM:+0000
TZOFFSETTO:+0000
TZNAME:UTC
DTSTART:20190101T000000
END:STANDARD
END:VTIMEZONE
BEGIN:VEVENT
DTSTART;VALUE=DATE:20200203
DTEND;VALUE=DATE:20200207
DTSTAMP:20260424T155617
CREATED:20200122T083813Z
LAST-MODIFIED:20200129T163406Z
UID:2125-1580688000-1581033599@neomedica.rs
SUMMARY:Visit us at the MEDLAB Middle East in Dubai
DESCRIPTION:We look forward to welcoming you at our booth Z4.B40 at MEDLAB. \n\n\n\n \n\n\n\nThis year’s MEDLAB Middle East\, one of the largest and most important international trade fairs in the laboratory and diagnostics sector for the MENA region\, will take place from 03 February to 06 February 2020. We look forward to welcoming you at our booth Z4.B40 in the Za’abeel Hall and unveiling our new product NAISSA®!
URL:https://neomedica.rs/event/visit-us-at-the-medlab-middle-east-in-dubai/
ATTACH;FMTTYPE=image/png:https://neomedica.rs/wp-content/uploads/2020/01/FN-BG-MEDLAB-2020-signature-e1579684588397.png
END:VEVENT
BEGIN:VEVENT
DTSTART;TZID=UTC:20191118T100000
DTEND;TZID=UTC:20191121T180000
DTSTAMP:20260424T155617
CREATED:20200122T083004Z
LAST-MODIFIED:20200129T163550Z
UID:2121-1574071200-1574359200@neomedica.rs
SUMMARY:Successful trade fair at MEDICA 2019
DESCRIPTION:MEDICA\, the world’s leading trade fair for the medical sector\, recorded more than 120\,000 visitors from over 130 countries this year. NeoMedica has experienced four successful days at the fair. We are pleased to have had the opportunity to have interesting conversations with our international customers as well as new customers. Thank you for coming!
URL:https://neomedica.rs/event/successful-trade-fair-at-medica-2019/
ATTACH;FMTTYPE=image/jpeg:https://neomedica.rs/wp-content/uploads/2020/01/medica-1200x673-1.jpg
END:VEVENT
BEGIN:VEVENT
DTSTART;VALUE=DATE:20190204
DTEND;VALUE=DATE:20190208
DTSTAMP:20260424T155617
CREATED:20190108T122647Z
LAST-MODIFIED:20190114T093031Z
UID:1662-1549238400-1549583999@neomedica.rs
SUMMARY:Medlab
DESCRIPTION:Visit us on Medlab in Dubai from 4th to 7th February\, Booth Z4.B40\, Za’abeel Hall 4 \nSee our exact location here.
URL:https://neomedica.rs/event/medlab/
LOCATION:Trade fair\, Dubai World Trade Centre\, Dubai\, Dubai\, United Arab Emirates
END:VEVENT
END:VCALENDAR